BEGIN:VCALENDAR
VERSION:2.0
PRODID:icalendar-ruby
CALSCALE:GREGORIAN
METHOD:PUBLISH
BEGIN:VEVENT
DTSTAMP:20260425T133424Z
UID:9-2959983@coastlinefellowship.org
DTSTART:20260922T130000Z
DTEND:20260922T140000Z
CLASS:PUBLIC
CREATED:20260425T062414
DESCRIPTION:Click here for more information.
LAST-MODIFIED:20260425T062414
LOCATION:279 6th Street\, Astoria\, OR 97103
SUMMARY:Men's Bible Study
URL;VALUE=URI:https://www.coastlinefellowship.org/events/mens-bible-study/2
 026-09-22
ATTACH;FILENAME=MensBibleStudy_PRC_15x784.jpg;FMTTYPE=image/jpeg:https://dq
 5pwpg1q8ru0.cloudfront.net/2025/01/01/04/07/10/23e43cfa-9be5-4811-91a9-4f7
 daf43fee0/MensBibleStudy_PRC_15x784.jpg
END:VEVENT
END:VCALENDAR
